BEGIN:VCALENDAR
VERSION:2.0
PRODID:-//DULUTH BUSINESS ASSOCIATION - ECPv6.15.20//NONSGML v1.0//EN
CALSCALE:GREGORIAN
METHOD:PUBLISH
X-ORIGINAL-URL:https://duluthbusiness.org
X-WR-CALDESC:Events for DULUTH BUSINESS ASSOCIATION
REFRESH-INTERVAL;VALUE=DURATION:PT1H
X-Robots-Tag:noindex
X-PUBLISHED-TTL:PT1H
BEGIN:VTIMEZONE
TZID:America/New_York
BEGIN:DAYLIGHT
TZOFFSETFROM:-0500
TZOFFSETTO:-0400
TZNAME:EDT
DTSTART:20250309T070000
END:DAYLIGHT
BEGIN:STANDARD
TZOFFSETFROM:-0400
TZOFFSETTO:-0500
TZNAME:EST
DTSTART:20251102T060000
END:STANDARD
BEGIN:DAYLIGHT
TZOFFSETFROM:-0500
TZOFFSETTO:-0400
TZNAME:EDT
DTSTART:20260308T070000
END:DAYLIGHT
BEGIN:STANDARD
TZOFFSETFROM:-0400
TZOFFSETTO:-0500
TZNAME:EST
DTSTART:20261101T060000
END:STANDARD
BEGIN:DAYLIGHT
TZOFFSETFROM:-0500
TZOFFSETTO:-0400
TZNAME:EDT
DTSTART:20270314T070000
END:DAYLIGHT
BEGIN:STANDARD
TZOFFSETFROM:-0400
TZOFFSETTO:-0500
TZNAME:EST
DTSTART:20271107T060000
END:STANDARD
END:VTIMEZONE
BEGIN:VEVENT
DTSTART;TZID=America/New_York:20260422T160000
DTEND;TZID=America/New_York:20260422T190000
DTSTAMP:20260425T174443
CREATED:20260407T201310Z
LAST-MODIFIED:20260407T201310Z
UID:10000071-1776873600-1776884400@duluthbusiness.org
SUMMARY:Topgolf National Administrative Professionals Day
DESCRIPTION:
URL:https://duluthbusiness.org/event/topgolf-national-administrative-professionals-day/
LOCATION:Topgolf Buford\, 2935 Buford Dr.\, Buford\, GA\, 30519\, United States
CATEGORIES:DBA Member Events
ATTACH;FMTTYPE=image/jpeg:https://duluthbusiness.org/wp-content/uploads/2026/04/Topgolf-National-Administrative-Professionals-Day.jpg
END:VEVENT
END:VCALENDAR