BEGIN:VCALENDAR
VERSION:2.0
PRODID:-//DULUTH BUSINESS ASSOCIATION - ECPv6.15.20//NONSGML v1.0//EN
CALSCALE:GREGORIAN
METHOD:PUBLISH
X-ORIGINAL-URL:https://duluthbusiness.org
X-WR-CALDESC:Events for DULUTH BUSINESS ASSOCIATION
REFRESH-INTERVAL;VALUE=DURATION:PT1H
X-Robots-Tag:noindex
X-PUBLISHED-TTL:PT1H
BEGIN:VTIMEZONE
TZID:America/New_York
BEGIN:DAYLIGHT
TZOFFSETFROM:-0500
TZOFFSETTO:-0400
TZNAME:EDT
DTSTART:20240310T070000
END:DAYLIGHT
BEGIN:STANDARD
TZOFFSETFROM:-0400
TZOFFSETTO:-0500
TZNAME:EST
DTSTART:20241103T060000
END:STANDARD
BEGIN:DAYLIGHT
TZOFFSETFROM:-0500
TZOFFSETTO:-0400
TZNAME:EDT
DTSTART:20250309T070000
END:DAYLIGHT
BEGIN:STANDARD
TZOFFSETFROM:-0400
TZOFFSETTO:-0500
TZNAME:EST
DTSTART:20251102T060000
END:STANDARD
BEGIN:DAYLIGHT
TZOFFSETFROM:-0500
TZOFFSETTO:-0400
TZNAME:EDT
DTSTART:20260308T070000
END:DAYLIGHT
BEGIN:STANDARD
TZOFFSETFROM:-0400
TZOFFSETTO:-0500
TZNAME:EST
DTSTART:20261101T060000
END:STANDARD
END:VTIMEZONE
BEGIN:VEVENT
DTSTART;TZID=America/New_York:20251101T170000
DTEND;TZID=America/New_York:20251101T203000
DTSTAMP:20260425T194940
CREATED:20251017T105034Z
LAST-MODIFIED:20251017T105034Z
UID:10000068-1762016400-1762029000@duluthbusiness.org
SUMMARY:UNTOLD INDIA - CURATED CRAFTS\, FINE ARTS\, AND VIVID STORYTELLING WHERE THE ANCIENT PAST RESHAPES THE MODERN PRESENT
DESCRIPTION:Untold India: Curated Arts & Crafts\, Storytelling and Music Performance\n\n\n\n\n\nDiscover Untold India: curated fine Arts & Crafts\, music\, stories. Nov 1 @ Hudgens Art Center. Food\, wine & silent auction. Limited tickets!\n\n\n\n\n\n\n\n\n\n\n\nWe’ll have an amazing exhibition\, a panel discussion and a Kathak-Flamenco mashup.\nIncludes delicious Indian heavy hors d’oeuvres and drinks.\nA silent auction will also be held and one of the organizations we will be donating to is Spectrum Autism Support Center.\nFOR TICKETS PLEASE VISIT– UNTOLD INDIA TICKET LINK.\n\n\n\n\n\n\n\n\n\n\n\n\n\nLocation\n\n\n  \n\nThe Hudgens Center for Art & Learning \n6400 Sugarloaf Parkway #Building 300 Duluth\, GA 30097
URL:https://duluthbusiness.org/event/untold-india-curated-crafts-fine-arts-and-vivid-storytelling-where-the-ancient-past-reshapes-the-modern-present/
LOCATION:Hudgens Center For Art & Learning\, 6400 Sugarloaf Parkway #300\, Duluth\, 30097\, United States
CATEGORIES:DBA Member Events
END:VEVENT
END:VCALENDAR