BEGIN:VCALENDAR
VERSION:2.0
PRODID:-//DULUTH BUSINESS ASSOCIATION - ECPv6.15.20//NONSGML v1.0//EN
CALSCALE:GREGORIAN
METHOD:PUBLISH
X-WR-CALNAME:DULUTH BUSINESS ASSOCIATION
X-ORIGINAL-URL:https://duluthbusiness.org
X-WR-CALDESC:Events for DULUTH BUSINESS ASSOCIATION
REFRESH-INTERVAL;VALUE=DURATION:PT1H
X-Robots-Tag:noindex
X-PUBLISHED-TTL:PT1H
BEGIN:VTIMEZONE
TZID:America/New_York
BEGIN:DAYLIGHT
TZOFFSETFROM:-0500
TZOFFSETTO:-0400
TZNAME:EDT
DTSTART:20240310T070000
END:DAYLIGHT
BEGIN:STANDARD
TZOFFSETFROM:-0400
TZOFFSETTO:-0500
TZNAME:EST
DTSTART:20241103T060000
END:STANDARD
BEGIN:DAYLIGHT
TZOFFSETFROM:-0500
TZOFFSETTO:-0400
TZNAME:EDT
DTSTART:20250309T070000
END:DAYLIGHT
BEGIN:STANDARD
TZOFFSETFROM:-0400
TZOFFSETTO:-0500
TZNAME:EST
DTSTART:20251102T060000
END:STANDARD
BEGIN:DAYLIGHT
TZOFFSETFROM:-0500
TZOFFSETTO:-0400
TZNAME:EDT
DTSTART:20260308T070000
END:DAYLIGHT
BEGIN:STANDARD
TZOFFSETFROM:-0400
TZOFFSETTO:-0500
TZNAME:EST
DTSTART:20261101T060000
END:STANDARD
BEGIN:DAYLIGHT
TZOFFSETFROM:-0500
TZOFFSETTO:-0400
TZNAME:EDT
DTSTART:20270314T070000
END:DAYLIGHT
BEGIN:STANDARD
TZOFFSETFROM:-0400
TZOFFSETTO:-0500
TZNAME:EST
DTSTART:20271107T060000
END:STANDARD
END:VTIMEZONE
BEGIN:VEVENT
DTSTART;TZID=America/New_York:20260208T130000
DTEND;TZID=America/New_York:20260208T150000
DTSTAMP:20260425T174227
CREATED:20260122T123946Z
LAST-MODIFIED:20260122T125259Z
UID:10000069-1770555600-1770562800@duluthbusiness.org
SUMMARY:Free E-Waste Recycling Event
DESCRIPTION:
URL:https://duluthbusiness.org/event/free-e-waste-recycling-event/
LOCATION:Spectrum Autism\, 2997 Main St\, Duluth\, GA\, 30096\, United States
CATEGORIES:DBA Member Events
ATTACH;FMTTYPE=image/jpeg:https://duluthbusiness.org/wp-content/uploads/2026/01/E-waste-Event-1.jpg
END:VEVENT
BEGIN:VEVENT
DTSTART;TZID=America/New_York:20251004T063000
DTEND;TZID=America/New_York:20251004T120000
DTSTAMP:20260425T174227
CREATED:20250707T130204Z
LAST-MODIFIED:20250707T130204Z
UID:10000067-1759559400-1759579200@duluthbusiness.org
SUMMARY:19th Annual Georgia Race for Autism & Fall Fesitval
DESCRIPTION:The Georgia Race for Autsim supports Spectrum Autsim Support Group.  Funds raised will provide support\, resources and education for families impacted by Autism in our community\, including our camps\, clubs and programs.  The prevalence of Autism has risen to 1 in 36.  Your support helps make a difference in our community! \n 
URL:https://duluthbusiness.org/event/19th-annual-georgia-race-for-autism-fall-fesitval/
LOCATION:Gwinnett County Fairgrounds\, 2405 Sugarloaf Parkway\, Lawrenceville\, GA\, 30045\, United States
CATEGORIES:DBA Member Events
ATTACH;FMTTYPE=image/jpeg:https://duluthbusiness.org/wp-content/uploads/2025/07/Georgia-Race-For-Autism-scaled.jpeg
END:VEVENT
END:VCALENDAR